BEGIN:VCALENDAR
VERSION:2.0
PRODID:-//Mairie de Targon - ECPv6.3.3.1//NONSGML v1.0//EN
CALSCALE:GREGORIAN
METHOD:PUBLISH
X-WR-CALNAME:Mairie de Targon
X-ORIGINAL-URL:https://www.mairie-targon.fr
X-WR-CALDESC:évènements pour Mairie de Targon
REFRESH-INTERVAL;VALUE=DURATION:PT1H
X-Robots-Tag:noindex
X-PUBLISHED-TTL:PT1H
BEGIN:VTIMEZONE
TZID:Europe/Paris
BEGIN:DAYLIGHT
TZOFFSETFROM:+0100
TZOFFSETTO:+0200
TZNAME:CEST
DTSTART:20250330T010000
END:DAYLIGHT
BEGIN:STANDARD
TZOFFSETFROM:+0200
TZOFFSETTO:+0100
TZNAME:CET
DTSTART:20251026T010000
END:STANDARD
END:VTIMEZONE
BEGIN:VEVENT
DTSTART;VALUE=DATE:20251010
DTEND;VALUE=DATE:20251013
DTSTAMP:20260425T004810
CREATED:20250919T123319Z
LAST-MODIFIED:20251003T100210Z
UID:19268-1760054400-1760313599@www.mairie-targon.fr
SUMMARY:Festival Le Pressoir
DESCRIPTION:Pour sa 15ème édition le festival du Pressoir qui célèbre la fin des vendanges propose 3 jours de fête avec des fanfares\, des concerts\, des spectacles\, des expositions\, des jeux\, des ateliers participatifs… \nVenez vibrer\, danser\, rire\, découvrir et célébrer ce temps fort automnal placé sous le signe de la musique\, de la création et de la convivialité ! \nPROGRAMME disponible ICI
URL:https://www.mairie-targon.fr/evenement/festival-le-pressoir-3/
END:VEVENT
END:VCALENDAR