BEGIN:VCALENDAR
VERSION:2.0
PRODID:-//Mairie de Targon - ECPv6.3.3.1//NONSGML v1.0//EN
CALSCALE:GREGORIAN
METHOD:PUBLISH
X-ORIGINAL-URL:https://www.mairie-targon.fr
X-WR-CALDESC:évènements pour Mairie de Targon
REFRESH-INTERVAL;VALUE=DURATION:PT1H
X-Robots-Tag:noindex
X-PUBLISHED-TTL:PT1H
BEGIN:VTIMEZONE
TZID:Europe/Paris
BEGIN:DAYLIGHT
TZOFFSETFROM:+0100
TZOFFSETTO:+0200
TZNAME:CEST
DTSTART:20250330T010000
END:DAYLIGHT
BEGIN:STANDARD
TZOFFSETFROM:+0200
TZOFFSETTO:+0100
TZNAME:CET
DTSTART:20251026T010000
END:STANDARD
END:VTIMEZONE
BEGIN:VEVENT
DTSTART;TZID=Europe/Paris:20251206T160000
DTEND;TZID=Europe/Paris:20251206T173000
DTSTAMP:20260424T220358
CREATED:20251117T112914Z
LAST-MODIFIED:20251117T113025Z
UID:19774-1765036800-1765042200@www.mairie-targon.fr
SUMMARY:Nougaro en plein Choeur
DESCRIPTION:A l’occasion de l’anniversaire des 20 ans de la disparition de Claude Nougaro\, les 40 choristes des « Choraleurs »\, accompagnés par le trio de jazz Atrisma et la comédienne Sylvie Massiot à la narration\, vont vous interpréter une quinzaine de ses plus belles chansons. \n10€\,  gratuit pour les moins de 12 ans
URL:https://www.mairie-targon.fr/evenement/nougaro-en-plein-choeur/
LOCATION:ERL
END:VEVENT
END:VCALENDAR