BEGIN:VCALENDAR
VERSION:2.0
PRODID:-//Mairie de Targon - ECPv6.3.3.1//NONSGML v1.0//EN
CALSCALE:GREGORIAN
METHOD:PUBLISH
X-WR-CALNAME:Mairie de Targon
X-ORIGINAL-URL:https://www.mairie-targon.fr
X-WR-CALDESC:évènements pour Mairie de Targon
REFRESH-INTERVAL;VALUE=DURATION:PT1H
X-Robots-Tag:noindex
X-PUBLISHED-TTL:PT1H
BEGIN:VTIMEZONE
TZID:Europe/Paris
BEGIN:DAYLIGHT
TZOFFSETFROM:+0100
TZOFFSETTO:+0200
TZNAME:CEST
DTSTART:20250330T010000
END:DAYLIGHT
BEGIN:STANDARD
TZOFFSETFROM:+0200
TZOFFSETTO:+0100
TZNAME:CET
DTSTART:20251026T010000
END:STANDARD
END:VTIMEZONE
BEGIN:VEVENT
DTSTART;TZID=Europe/Paris:20251207T173000
DTEND;TZID=Europe/Paris:20251207T183000
DTSTAMP:20260424T220129
CREATED:20251117T112233Z
LAST-MODIFIED:20251117T112233Z
UID:19772-1765128600-1765132200@www.mairie-targon.fr
SUMMARY:Un conte\, une soupe
DESCRIPTION:Cette nouvelle édition d’un « conte\, une soupe » propose comme à son habitude de débuter par un spectacle durant lequel l’équipe d’Acrocs Production prépare une soupe qui sera partagée à l’issu de la représentation. \nCette année Olivier Villanove va vous captiver avec ses légendes urbaines\, contes traditionnels\, récits fantastiques et histoires qui alternent entre humour et poésie.. Il fait naître la fiction et l’envie irrépressible de courir après ses rêves \nLaissez vous embarquer dans un imaginaire vivifiant avec ce voyage aventureux. \nTout public à partir de 8 ans.
URL:https://www.mairie-targon.fr/evenement/un-conte-une-soupe-3/
LOCATION:Foyer de la Résidence Autonomie du Petit Roux\, chemin du stade\, TARGON\, 33760
END:VEVENT
END:VCALENDAR