BEGIN:VCALENDAR
VERSION:2.0
PRODID:-//Mairie de Targon - ECPv6.3.3.1//NONSGML v1.0//EN
CALSCALE:GREGORIAN
METHOD:PUBLISH
X-ORIGINAL-URL:https://www.mairie-targon.fr
X-WR-CALDESC:évènements pour Mairie de Targon
REFRESH-INTERVAL;VALUE=DURATION:PT1H
X-Robots-Tag:noindex
X-PUBLISHED-TTL:PT1H
BEGIN:VTIMEZONE
TZID:Europe/Paris
BEGIN:DAYLIGHT
TZOFFSETFROM:+0100
TZOFFSETTO:+0200
TZNAME:CEST
DTSTART:20260329T010000
END:DAYLIGHT
BEGIN:STANDARD
TZOFFSETFROM:+0200
TZOFFSETTO:+0100
TZNAME:CET
DTSTART:20261025T010000
END:STANDARD
END:VTIMEZONE
BEGIN:VEVENT
DTSTART;TZID=Europe/Paris:20260426T160000
DTEND;TZID=Europe/Paris:20260426T173000
DTSTAMP:20260421T161716
CREATED:20260403T102343Z
LAST-MODIFIED:20260403T102343Z
UID:20671-1777219200-1777224600@www.mairie-targon.fr
SUMMARY:Imite ! I.A quoi ?
DESCRIPTION:Intelligence artificielle ou imitation artificielle ? \nC’est la question que se pose Mathieu dans son spectacle d’imitations. Des personnages de la pop culture en passant par les chanteurs de tous genres\, découvrez de nombreux univers grâce à sa large palette vocale. Vous voyagerez entre anecdotes\, performance et stand up dans ce seul en scène survolté. \nAlors n’hésitez plus et venez découvrir cet enfant du pays ! \n10€\, gratuit pour les moins de 12 ans \n 
URL:https://www.mairie-targon.fr/evenement/imite-i-a-quoi/
LOCATION:ERL
END:VEVENT
END:VCALENDAR