BEGIN:VCALENDAR
VERSION:2.0
PRODID:-//Mairie de Targon - ECPv6.3.3.1//NONSGML v1.0//EN
CALSCALE:GREGORIAN
METHOD:PUBLISH
X-ORIGINAL-URL:https://www.mairie-targon.fr
X-WR-CALDESC:évènements pour Mairie de Targon
REFRESH-INTERVAL;VALUE=DURATION:PT1H
X-Robots-Tag:noindex
X-PUBLISHED-TTL:PT1H
BEGIN:VTIMEZONE
TZID:Europe/Paris
BEGIN:DAYLIGHT
TZOFFSETFROM:+0100
TZOFFSETTO:+0200
TZNAME:CEST
DTSTART:20250330T010000
END:DAYLIGHT
BEGIN:STANDARD
TZOFFSETFROM:+0200
TZOFFSETTO:+0100
TZNAME:CET
DTSTART:20251026T010000
END:STANDARD
END:VTIMEZONE
BEGIN:VEVENT
DTSTART;TZID=Europe/Paris:20250702T150000
DTEND;TZID=Europe/Paris:20250702T173000
DTSTAMP:20260425T032655
CREATED:20250509T124604Z
LAST-MODIFIED:20250509T131648Z
UID:18613-1751468400-1751477400@www.mairie-targon.fr
SUMMARY:The White Socks
DESCRIPTION:Comme chaque année depuis 2013\, La municipalité de Targon et la CDC Rurales de l’Entre-Deux-Mers s’associent avec le concours d’Acros Productions pour offrir un spectacle aux enfants de la commune et des centres de loisirs du territoire. \nVéritable boum où bonbons\, confettis et piste de danse côtoient les plus grands standards du rock’n roll. \nConcert pour les 3 à 12 ans.
URL:https://www.mairie-targon.fr/evenement/the-white-socks/
LOCATION:Espace René Lazare\, Allée d'Amour\, TARGON\, 33760\, France
END:VEVENT
BEGIN:VEVENT
DTSTART;TZID=Europe/Paris:20250716T140000
DTEND;TZID=Europe/Paris:20250716T180000
DTSTAMP:20260425T032655
CREATED:20250704T120930Z
LAST-MODIFIED:20250707T083158Z
UID:18922-1752674400-1752688800@www.mairie-targon.fr
SUMMARY:Ludo Vadrouille
DESCRIPTION:
URL:https://www.mairie-targon.fr/evenement/18922/
LOCATION:Halle Municipale
END:VEVENT
END:VCALENDAR