BEGIN:VCALENDAR
VERSION:2.0
PRODID:-//Mairie de Targon - ECPv6.3.3.1//NONSGML v1.0//EN
CALSCALE:GREGORIAN
METHOD:PUBLISH
X-ORIGINAL-URL:https://www.mairie-targon.fr
X-WR-CALDESC:évènements pour Mairie de Targon
REFRESH-INTERVAL;VALUE=DURATION:PT1H
X-Robots-Tag:noindex
X-PUBLISHED-TTL:PT1H
BEGIN:VTIMEZONE
TZID:Europe/Paris
BEGIN:DAYLIGHT
TZOFFSETFROM:+0100
TZOFFSETTO:+0200
TZNAME:CEST
DTSTART:20260329T010000
END:DAYLIGHT
BEGIN:STANDARD
TZOFFSETFROM:+0200
TZOFFSETTO:+0100
TZNAME:CET
DTSTART:20261025T010000
END:STANDARD
END:VTIMEZONE
BEGIN:VEVENT
DTSTART;TZID=Europe/Paris:20260214T193000
DTEND;TZID=Europe/Paris:20260214T210000
DTSTAMP:20260421T115813
CREATED:20260130T150823Z
LAST-MODIFIED:20260213T101647Z
UID:20271-1771097400-1771102800@www.mairie-targon.fr
SUMMARY:Une histoire de Django
DESCRIPTION:Suite aux intempéries le spectacle est annulé 
URL:https://www.mairie-targon.fr/evenement/une-histoire-de-dajngo/
LOCATION:Espace René Lazare\, Allée d'Amour\, TARGON\, 33760\, France
END:VEVENT
BEGIN:VEVENT
DTSTART;TZID=Europe/Paris:20260228T160000
DTEND;TZID=Europe/Paris:20260301T170000
DTSTAMP:20260421T115813
CREATED:20260220T104908Z
LAST-MODIFIED:20260220T104908Z
UID:20369-1772294400-1772384400@www.mairie-targon.fr
SUMMARY:Festival "Comment Dire"
DESCRIPTION:Retour de la 17ème édition du festival « Comment Dire » afin de faire rayonner la poésie et la création contemporaine. \nDurant deux jours\, éditeurs et libraires indépendants seront présents pour échanger avec le public dès le samedi à 16h à l’ERL. En amont une exposition à la Manivelle ô Vents (14 rue René Pezat) aura lieu et le 28 février place au spectacle avec  » les Passagers » qui sera suivi d’une surprise qui promet de vous étonner et vous émouvoir. \nConsulter le programme complet \nBuvette et restauration sur place. \n10€\, gratuit pour les moins de 12 ans
URL:https://www.mairie-targon.fr/evenement/festival-comment-dire-4/
LOCATION:ERL
END:VEVENT
END:VCALENDAR